BEGIN:VCALENDAR
VERSION:2.0
PRODID:-//Harwinton Public Library - ECPv6.15.12.2//NONSGML v1.0//EN
CALSCALE:GREGORIAN
METHOD:PUBLISH
X-ORIGINAL-URL:https://www.harwintonlibrary.org
X-WR-CALDESC:Events for Harwinton Public Library
REFRESH-INTERVAL;VALUE=DURATION:PT1H
X-Robots-Tag:noindex
X-PUBLISHED-TTL:PT1H
BEGIN:VTIMEZONE
TZID:America/New_York
BEGIN:DAYLIGHT
TZOFFSETFROM:-0500
TZOFFSETTO:-0400
TZNAME:EDT
DTSTART:20250309T070000
END:DAYLIGHT
BEGIN:STANDARD
TZOFFSETFROM:-0400
TZOFFSETTO:-0500
TZNAME:EST
DTSTART:20251102T060000
END:STANDARD
BEGIN:DAYLIGHT
TZOFFSETFROM:-0500
TZOFFSETTO:-0400
TZNAME:EDT
DTSTART:20260308T070000
END:DAYLIGHT
BEGIN:STANDARD
TZOFFSETFROM:-0400
TZOFFSETTO:-0500
TZNAME:EST
DTSTART:20261101T060000
END:STANDARD
BEGIN:DAYLIGHT
TZOFFSETFROM:-0500
TZOFFSETTO:-0400
TZNAME:EDT
DTSTART:20270314T070000
END:DAYLIGHT
BEGIN:STANDARD
TZOFFSETFROM:-0400
TZOFFSETTO:-0500
TZNAME:EST
DTSTART:20271107T060000
END:STANDARD
END:VTIMEZONE
BEGIN:VEVENT
DTSTART;TZID=America/New_York:20260615T183000
DTEND;TZID=America/New_York:20260615T193000
DTSTAMP:20260421T185907
CREATED:20260206T150620Z
LAST-MODIFIED:20260206T150620Z
UID:26083-1781548200-1781551800@www.harwintonlibrary.org
SUMMARY:Chess Club
DESCRIPTION:Join out weekly chess club.  All ages are welcome.
URL:https://www.harwintonlibrary.org/event/chess-club-7/2026-06-15/
LOCATION:Harwinton Public Library\, 80 Bentley Drive\, Harwinton\, CT\, 06791\, United States
CATEGORIES:Recurring Event
ATTACH;FMTTYPE=image/jpeg:https://www.harwintonlibrary.org/wp-content/uploads/2025/12/Chess_Club_SLIDER2026.jpg
END:VEVENT
BEGIN:VEVENT
DTSTART;TZID=America/New_York:20260617T153000
DTEND;TZID=America/New_York:20260617T163000
DTSTAMP:20260421T185907
CREATED:20260207T191158Z
LAST-MODIFIED:20260207T191158Z
UID:26105-1781710200-1781713800@www.harwintonlibrary.org
SUMMARY:Meditation
DESCRIPTION:Weekly meditation group.  All are welcome
URL:https://www.harwintonlibrary.org/event/meditation-2/2026-06-17/
LOCATION:Harwinton Public Library\, 80 Bentley Drive\, Harwinton\, CT\, 06791\, United States
CATEGORIES:Recurring Event
ATTACH;FMTTYPE=image/jpeg:https://www.harwintonlibrary.org/wp-content/uploads/2025/12/mind.jpg
END:VEVENT
BEGIN:VEVENT
DTSTART;TZID=America/New_York:20260619T150000
DTEND;TZID=America/New_York:20260619T170000
DTSTAMP:20260421T185907
CREATED:20260228T154806Z
LAST-MODIFIED:20260304T235825Z
UID:26317-1781881200-1781888400@www.harwintonlibrary.org
SUMMARY:Craft & Chat
DESCRIPTION:Join us for only monthly Craft & Chat program.  Bring your own project and supplies\, and craft & chat with new friends.  It’s always fun to see what others are working on!  Stop by anytime between 3 & 5.  Registration helpful\, but not required.
URL:https://www.harwintonlibrary.org/event/craft-chat-6/
LOCATION:Harwinton Public Library\, 80 Bentley Drive\, Harwinton\, CT\, 06791\, United States
CATEGORIES:Recurring Event
ATTACH;FMTTYPE=image/jpeg:https://www.harwintonlibrary.org/wp-content/uploads/2025/11/Craft_and_Chat.jpg
END:VEVENT
BEGIN:VEVENT
DTSTART;TZID=America/New_York:20260622T183000
DTEND;TZID=America/New_York:20260622T193000
DTSTAMP:20260421T185907
CREATED:20260206T150620Z
LAST-MODIFIED:20260206T150620Z
UID:26084-1782153000-1782156600@www.harwintonlibrary.org
SUMMARY:Chess Club
DESCRIPTION:Join out weekly chess club.  All ages are welcome.
URL:https://www.harwintonlibrary.org/event/chess-club-7/2026-06-22/
LOCATION:Harwinton Public Library\, 80 Bentley Drive\, Harwinton\, CT\, 06791\, United States
CATEGORIES:Recurring Event
ATTACH;FMTTYPE=image/jpeg:https://www.harwintonlibrary.org/wp-content/uploads/2025/12/Chess_Club_SLIDER2026.jpg
END:VEVENT
BEGIN:VEVENT
DTSTART;TZID=America/New_York:20260624T153000
DTEND;TZID=America/New_York:20260624T163000
DTSTAMP:20260421T185907
CREATED:20260207T191158Z
LAST-MODIFIED:20260207T191158Z
UID:26106-1782315000-1782318600@www.harwintonlibrary.org
SUMMARY:Meditation
DESCRIPTION:Weekly meditation group.  All are welcome
URL:https://www.harwintonlibrary.org/event/meditation-2/2026-06-24/
LOCATION:Harwinton Public Library\, 80 Bentley Drive\, Harwinton\, CT\, 06791\, United States
CATEGORIES:Recurring Event
ATTACH;FMTTYPE=image/jpeg:https://www.harwintonlibrary.org/wp-content/uploads/2025/12/mind.jpg
END:VEVENT
BEGIN:VEVENT
DTSTART;TZID=America/New_York:20260629T183000
DTEND;TZID=America/New_York:20260629T193000
DTSTAMP:20260421T185907
CREATED:20260206T150620Z
LAST-MODIFIED:20260206T150620Z
UID:26085-1782757800-1782761400@www.harwintonlibrary.org
SUMMARY:Chess Club
DESCRIPTION:Join out weekly chess club.  All ages are welcome.
URL:https://www.harwintonlibrary.org/event/chess-club-7/2026-06-29/
LOCATION:Harwinton Public Library\, 80 Bentley Drive\, Harwinton\, CT\, 06791\, United States
CATEGORIES:Recurring Event
ATTACH;FMTTYPE=image/jpeg:https://www.harwintonlibrary.org/wp-content/uploads/2025/12/Chess_Club_SLIDER2026.jpg
END:VEVENT
BEGIN:VEVENT
DTSTART;TZID=America/New_York:20260629T190000
DTEND;TZID=America/New_York:20260629T200000
DTSTAMP:20260421T185907
CREATED:20251126T200224Z
LAST-MODIFIED:20260202T215451Z
UID:25421-1782759600-1782763200@www.harwintonlibrary.org
SUMMARY:Let's Talk Gardening
DESCRIPTION:The Harwinton Grows Seed Library bimonthly gardening session.
URL:https://www.harwintonlibrary.org/event/lets-talk-gardening-3/
LOCATION:Harwinton Public Library\, 80 Bentley Drive\, Harwinton\, CT\, 06791\, United States
CATEGORIES:Recurring Event
END:VEVENT
BEGIN:VEVENT
DTSTART;TZID=America/New_York:20260701T153000
DTEND;TZID=America/New_York:20260701T163000
DTSTAMP:20260421T185907
CREATED:20260207T191158Z
LAST-MODIFIED:20260207T191158Z
UID:26107-1782919800-1782923400@www.harwintonlibrary.org
SUMMARY:Meditation
DESCRIPTION:Weekly meditation group.  All are welcome
URL:https://www.harwintonlibrary.org/event/meditation-2/2026-07-01/
LOCATION:Harwinton Public Library\, 80 Bentley Drive\, Harwinton\, CT\, 06791\, United States
CATEGORIES:Recurring Event
ATTACH;FMTTYPE=image/jpeg:https://www.harwintonlibrary.org/wp-content/uploads/2025/12/mind.jpg
END:VEVENT
BEGIN:VEVENT
DTSTART;VALUE=DATE:20260703
DTEND;VALUE=DATE:20260704
DTSTAMP:20260421T185907
CREATED:20260205T004652Z
LAST-MODIFIED:20260205T004652Z
UID:26061-1783036800-1783123199@www.harwintonlibrary.org
SUMMARY:Library Closed
DESCRIPTION:Library closed for 4th of July.
URL:https://www.harwintonlibrary.org/event/library-closed-6/
LOCATION:Harwinton Public Library\, 80 Bentley Drive\, Harwinton\, CT\, 06791\, United States
END:VEVENT
BEGIN:VEVENT
DTSTART;VALUE=DATE:20260703
DTEND;VALUE=DATE:20260704
DTSTAMP:20260421T185907
CREATED:20260324T190431Z
LAST-MODIFIED:20260324T190431Z
UID:26633-1783036800-1783123199@www.harwintonlibrary.org
SUMMARY:Library Closed
DESCRIPTION:Closed for the 4th of July
URL:https://www.harwintonlibrary.org/event/library-closed-7/
LOCATION:Harwinton Public Library\, 80 Bentley Drive\, Harwinton\, CT\, 06791\, United States
CATEGORIES:Special Event
END:VEVENT
BEGIN:VEVENT
DTSTART;VALUE=DATE:20260704
DTEND;VALUE=DATE:20260705
DTSTAMP:20260421T185907
CREATED:20251120T171513Z
LAST-MODIFIED:20260205T004957Z
UID:25312-1783123200-1783209599@www.harwintonlibrary.org
SUMMARY:Library Closed
DESCRIPTION:Closed for Fourth of July
URL:https://www.harwintonlibrary.org/event/library-closed-8/
LOCATION:Harwinton Public Library\, 80 Bentley Drive\, Harwinton\, CT\, 06791\, United States
CATEGORIES:Special Event
END:VEVENT
BEGIN:VEVENT
DTSTART;TZID=America/New_York:20260708T140000
DTEND;TZID=America/New_York:20260708T150000
DTSTAMP:20260421T185907
CREATED:20260421T204825Z
LAST-MODIFIED:20260421T204825Z
UID:26789-1783519200-1783522800@www.harwintonlibrary.org
SUMMARY:Homeschool Storytime
DESCRIPTION:One of our local homeschooling mom’s\, Andrea Fitzpatrick\, is providing a homeschooler storytime for homeschoolers in the area! All are welcome\, of course\, whether they are homeschooled or not!\nThis storytime series will be for slightly older kids than the normal story times that Mrs. Molly provides! This is a great opportunity for kids who still love being read to! \nAges 6-10 years old.\nParents must attend with their kids.\nNo need to register.
URL:https://www.harwintonlibrary.org/event/homeschool-storytime/2026-07-08/
LOCATION:Harwinton Public Library\, 80 Bentley Drive\, Harwinton\, CT\, 06791\, United States
CATEGORIES:Recurring Event
ATTACH;FMTTYPE=image/jpeg:https://www.harwintonlibrary.org/wp-content/uploads/2026/04/unnamed-file-scaled-e1776804434552.jpg
END:VEVENT
BEGIN:VEVENT
DTSTART;TZID=America/New_York:20260709T140000
DTEND;TZID=America/New_York:20260709T150000
DTSTAMP:20260421T185907
CREATED:20251126T194944Z
LAST-MODIFIED:20260410T164313Z
UID:25404-1783605600-1783609200@www.harwintonlibrary.org
SUMMARY:Afternoon Book Discussion
DESCRIPTION:TBD
URL:https://www.harwintonlibrary.org/event/afternoon-book-discussion-2-2026-07-09/2026-07-09/
LOCATION:Harwinton Public Library\, 80 Bentley Drive\, Harwinton\, CT\, 06791\, United States
CATEGORIES:Book Discussion
END:VEVENT
BEGIN:VEVENT
DTSTART;TZID=America/New_York:20260720T180000
DTEND;TZID=America/New_York:20260720T190000
DTSTAMP:20260421T185907
CREATED:20251126T195355Z
LAST-MODIFIED:20260330T193030Z
UID:25414-1784570400-1784574000@www.harwintonlibrary.org
SUMMARY:Evening Book Discussion
DESCRIPTION:TBD
URL:https://www.harwintonlibrary.org/event/evening-book-discussion-6-2026-06-15/2026-07-20/
LOCATION:Harwinton Public Library\, 80 Bentley Drive\, Harwinton\, CT\, 06791\, United States
CATEGORIES:Book Discussion
END:VEVENT
BEGIN:VEVENT
DTSTART;TZID=America/New_York:20260724T150000
DTEND;TZID=America/New_York:20260724T170000
DTSTAMP:20260421T185907
CREATED:20260331T195754Z
LAST-MODIFIED:20260331T195754Z
UID:26694-1784905200-1784912400@www.harwintonlibrary.org
SUMMARY:Craft & Chat
DESCRIPTION:Join us monthly as we craft & chat together.  Bring your own project to work on.  Enjoy some snacks.  Put aside some time for yourself. Drop by anytime between 3 & 5.  Registration helpful\, but not required.
URL:https://www.harwintonlibrary.org/event/craft-chat-8/
LOCATION:Harwinton Public Library\, 80 Bentley Drive\, Harwinton\, CT\, 06791\, United States
CATEGORIES:Recurring Event
ATTACH;FMTTYPE=image/jpeg:https://www.harwintonlibrary.org/wp-content/uploads/2025/11/Craft_and_Chat.jpg
END:VEVENT
BEGIN:VEVENT
DTSTART;TZID=America/New_York:20260812T140000
DTEND;TZID=America/New_York:20260812T150000
DTSTAMP:20260421T185907
CREATED:20260421T204825Z
LAST-MODIFIED:20260421T204825Z
UID:26790-1786543200-1786546800@www.harwintonlibrary.org
SUMMARY:Homeschool Storytime
DESCRIPTION:One of our local homeschooling mom’s\, Andrea Fitzpatrick\, is providing a homeschooler storytime for homeschoolers in the area! All are welcome\, of course\, whether they are homeschooled or not!\nThis storytime series will be for slightly older kids than the normal story times that Mrs. Molly provides! This is a great opportunity for kids who still love being read to! \nAges 6-10 years old.\nParents must attend with their kids.\nNo need to register.
URL:https://www.harwintonlibrary.org/event/homeschool-storytime/2026-08-12/
LOCATION:Harwinton Public Library\, 80 Bentley Drive\, Harwinton\, CT\, 06791\, United States
CATEGORIES:Recurring Event
ATTACH;FMTTYPE=image/jpeg:https://www.harwintonlibrary.org/wp-content/uploads/2026/04/unnamed-file-scaled-e1776804434552.jpg
END:VEVENT
BEGIN:VEVENT
DTSTART;TZID=America/New_York:20260813T140000
DTEND;TZID=America/New_York:20260813T150000
DTSTAMP:20260421T185907
CREATED:20251126T194944Z
LAST-MODIFIED:20260410T164313Z
UID:25405-1786629600-1786633200@www.harwintonlibrary.org
SUMMARY:Afternoon Book Discussion
DESCRIPTION:TBD
URL:https://www.harwintonlibrary.org/event/afternoon-book-discussion-2-2026-07-09/2026-08-13/
LOCATION:Harwinton Public Library\, 80 Bentley Drive\, Harwinton\, CT\, 06791\, United States
CATEGORIES:Book Discussion
END:VEVENT
BEGIN:VEVENT
DTSTART;TZID=America/New_York:20260817T180000
DTEND;TZID=America/New_York:20260817T190000
DTSTAMP:20260421T185907
CREATED:20251126T195355Z
LAST-MODIFIED:20260330T193030Z
UID:25415-1786989600-1786993200@www.harwintonlibrary.org
SUMMARY:Evening Book Discussion
DESCRIPTION:TBD
URL:https://www.harwintonlibrary.org/event/evening-book-discussion-6-2026-06-15/2026-08-17/
LOCATION:Harwinton Public Library\, 80 Bentley Drive\, Harwinton\, CT\, 06791\, United States
CATEGORIES:Book Discussion
END:VEVENT
BEGIN:VEVENT
DTSTART;TZID=America/New_York:20260824T190000
DTEND;TZID=America/New_York:20260824T200000
DTSTAMP:20260421T185907
CREATED:20251126T200328Z
LAST-MODIFIED:20260202T215358Z
UID:25423-1787598000-1787601600@www.harwintonlibrary.org
SUMMARY:Let's Talk Gardening
DESCRIPTION:The Harwinton Grows Seed Library bimonthly gardening session.
URL:https://www.harwintonlibrary.org/event/lets-talk-gardening-7/
LOCATION:Harwinton Public Library\, 80 Bentley Drive\, Harwinton\, CT\, 06791\, United States
CATEGORIES:Recurring Event
END:VEVENT
BEGIN:VEVENT
DTSTART;VALUE=DATE:20260907
DTEND;VALUE=DATE:20260908
DTSTAMP:20260421T185907
CREATED:20251120T171649Z
LAST-MODIFIED:20260202T215323Z
UID:25314-1788739200-1788825599@www.harwintonlibrary.org
SUMMARY:Library Closed
DESCRIPTION:Closed for Labor Day
URL:https://www.harwintonlibrary.org/event/library-closed-9/
LOCATION:Harwinton Public Library\, 80 Bentley Drive\, Harwinton\, CT\, 06791\, United States
CATEGORIES:Special Event
END:VEVENT
BEGIN:VEVENT
DTSTART;TZID=America/New_York:20260910T140000
DTEND;TZID=America/New_York:20260910T150000
DTSTAMP:20260421T185907
CREATED:20251126T194944Z
LAST-MODIFIED:20260410T164314Z
UID:25406-1789048800-1789052400@www.harwintonlibrary.org
SUMMARY:Afternoon Book Discussion
DESCRIPTION:TBD
URL:https://www.harwintonlibrary.org/event/afternoon-book-discussion-2-2026-07-09/2026-09-10/
LOCATION:Harwinton Public Library\, 80 Bentley Drive\, Harwinton\, CT\, 06791\, United States
CATEGORIES:Book Discussion
END:VEVENT
BEGIN:VEVENT
DTSTART;TZID=America/New_York:20260921T180000
DTEND;TZID=America/New_York:20260921T190000
DTSTAMP:20260421T185907
CREATED:20251126T195355Z
LAST-MODIFIED:20260330T193031Z
UID:25416-1790013600-1790017200@www.harwintonlibrary.org
SUMMARY:Evening Book Discussion
DESCRIPTION:TBD
URL:https://www.harwintonlibrary.org/event/evening-book-discussion-6-2026-06-15/2026-09-21/
LOCATION:Harwinton Public Library\, 80 Bentley Drive\, Harwinton\, CT\, 06791\, United States
CATEGORIES:Book Discussion
END:VEVENT
BEGIN:VEVENT
DTSTART;TZID=America/New_York:20261008T140000
DTEND;TZID=America/New_York:20261008T150000
DTSTAMP:20260421T185907
CREATED:20251126T194944Z
LAST-MODIFIED:20260410T164314Z
UID:25407-1791468000-1791471600@www.harwintonlibrary.org
SUMMARY:Afternoon Book Discussion
DESCRIPTION:TBD
URL:https://www.harwintonlibrary.org/event/afternoon-book-discussion-2-2026-07-09/2026-10-08/
LOCATION:Harwinton Public Library\, 80 Bentley Drive\, Harwinton\, CT\, 06791\, United States
CATEGORIES:Book Discussion
END:VEVENT
BEGIN:VEVENT
DTSTART;VALUE=DATE:20261012
DTEND;VALUE=DATE:20261013
DTSTAMP:20260421T185907
CREATED:20251120T171752Z
LAST-MODIFIED:20260202T205846Z
UID:25316-1791763200-1791849599@www.harwintonlibrary.org
SUMMARY:Library Closed
DESCRIPTION:Closed for Columbus Day
URL:https://www.harwintonlibrary.org/event/library-closed-10/
LOCATION:Harwinton Public Library\, 80 Bentley Drive\, Harwinton\, CT\, 06791\, United States
CATEGORIES:Special Event
END:VEVENT
BEGIN:VEVENT
DTSTART;TZID=America/New_York:20261019T180000
DTEND;TZID=America/New_York:20261019T190000
DTSTAMP:20260421T185907
CREATED:20251126T195355Z
LAST-MODIFIED:20260330T193031Z
UID:25417-1792432800-1792436400@www.harwintonlibrary.org
SUMMARY:Evening Book Discussion
DESCRIPTION:TBD
URL:https://www.harwintonlibrary.org/event/evening-book-discussion-6-2026-06-15/2026-10-19/
LOCATION:Harwinton Public Library\, 80 Bentley Drive\, Harwinton\, CT\, 06791\, United States
CATEGORIES:Book Discussion
END:VEVENT
BEGIN:VEVENT
DTSTART;TZID=America/New_York:20261026T190000
DTEND;TZID=America/New_York:20261026T200000
DTSTAMP:20260421T185907
CREATED:20251126T200453Z
LAST-MODIFIED:20260202T205805Z
UID:25425-1793041200-1793044800@www.harwintonlibrary.org
SUMMARY:Let's Talk Gardening
DESCRIPTION:The Harwinton Grows Seed Library bimonthly gardening session.
URL:https://www.harwintonlibrary.org/event/lets-talk-gardening-8/
LOCATION:Harwinton Public Library\, 80 Bentley Drive\, Harwinton\, CT\, 06791\, United States
CATEGORIES:Recurring Event
END:VEVENT
BEGIN:VEVENT
DTSTART;VALUE=DATE:20261111
DTEND;VALUE=DATE:20261112
DTSTAMP:20260421T185907
CREATED:20251120T171905Z
LAST-MODIFIED:20260202T215232Z
UID:25318-1794355200-1794441599@www.harwintonlibrary.org
SUMMARY:Library Closed
DESCRIPTION:Closed for Veterans Day
URL:https://www.harwintonlibrary.org/event/library-closed-11/
LOCATION:Harwinton Public Library\, 80 Bentley Drive\, Harwinton\, CT\, 06791\, United States
CATEGORIES:Special Event
END:VEVENT
BEGIN:VEVENT
DTSTART;TZID=America/New_York:20261112T140000
DTEND;TZID=America/New_York:20261112T150000
DTSTAMP:20260421T185907
CREATED:20251126T194944Z
LAST-MODIFIED:20260410T164314Z
UID:25408-1794492000-1794495600@www.harwintonlibrary.org
SUMMARY:Afternoon Book Discussion
DESCRIPTION:TBD
URL:https://www.harwintonlibrary.org/event/afternoon-book-discussion-2-2026-07-09/2026-11-12/
LOCATION:Harwinton Public Library\, 80 Bentley Drive\, Harwinton\, CT\, 06791\, United States
CATEGORIES:Book Discussion
END:VEVENT
BEGIN:VEVENT
DTSTART;TZID=America/New_York:20261116T180000
DTEND;TZID=America/New_York:20261116T190000
DTSTAMP:20260421T185907
CREATED:20251126T195355Z
LAST-MODIFIED:20260330T193031Z
UID:25418-1794852000-1794855600@www.harwintonlibrary.org
SUMMARY:Evening Book Discussion
DESCRIPTION:TBD
URL:https://www.harwintonlibrary.org/event/evening-book-discussion-6-2026-06-15/2026-11-16/
LOCATION:Harwinton Public Library\, 80 Bentley Drive\, Harwinton\, CT\, 06791\, United States
CATEGORIES:Book Discussion
END:VEVENT
BEGIN:VEVENT
DTSTART;VALUE=DATE:20261125
DTEND;VALUE=DATE:20261126
DTSTAMP:20260421T185907
CREATED:20251120T172011Z
LAST-MODIFIED:20260202T215122Z
UID:25320-1795564800-1795651199@www.harwintonlibrary.org
SUMMARY:Library Closing @ 5pm
DESCRIPTION:Closing for Thanksgiving
URL:https://www.harwintonlibrary.org/event/library-closing-5pm/
LOCATION:Harwinton Public Library\, 80 Bentley Drive\, Harwinton\, CT\, 06791\, United States
CATEGORIES:Special Event
END:VEVENT
END:VCALENDAR