BEGIN:VCALENDAR
VERSION:2.0
PRODID:-//Harwinton Public Library - ECPv6.15.12.2//NONSGML v1.0//EN
CALSCALE:GREGORIAN
METHOD:PUBLISH
X-WR-CALNAME:Harwinton Public Library
X-ORIGINAL-URL:https://www.harwintonlibrary.org
X-WR-CALDESC:Events for Harwinton Public Library
REFRESH-INTERVAL;VALUE=DURATION:PT1H
X-Robots-Tag:noindex
X-PUBLISHED-TTL:PT1H
BEGIN:VTIMEZONE
TZID:America/New_York
BEGIN:DAYLIGHT
TZOFFSETFROM:-0500
TZOFFSETTO:-0400
TZNAME:EDT
DTSTART:20250309T070000
END:DAYLIGHT
BEGIN:STANDARD
TZOFFSETFROM:-0400
TZOFFSETTO:-0500
TZNAME:EST
DTSTART:20251102T060000
END:STANDARD
BEGIN:DAYLIGHT
TZOFFSETFROM:-0500
TZOFFSETTO:-0400
TZNAME:EDT
DTSTART:20260308T070000
END:DAYLIGHT
BEGIN:STANDARD
TZOFFSETFROM:-0400
TZOFFSETTO:-0500
TZNAME:EST
DTSTART:20261101T060000
END:STANDARD
BEGIN:DAYLIGHT
TZOFFSETFROM:-0500
TZOFFSETTO:-0400
TZNAME:EDT
DTSTART:20270314T070000
END:DAYLIGHT
BEGIN:STANDARD
TZOFFSETFROM:-0400
TZOFFSETTO:-0500
TZNAME:EST
DTSTART:20271107T060000
END:STANDARD
END:VTIMEZONE
BEGIN:VEVENT
DTSTART;TZID=America/New_York:20260423T100000
DTEND;TZID=America/New_York:20260423T103000
DTSTAMP:20260423T064455
CREATED:20260224T182411Z
LAST-MODIFIED:20260224T195623Z
UID:26268-1776938400-1776940200@www.harwintonlibrary.org
SUMMARY:Spring Storytime (Thurs.)
DESCRIPTION:Come enjoy storytime with Mrs. Molly! Read a book\, sing songs\, and either make a craft\, play with scarves\, or do simple yoga!\nEach week has a different theme and all are welcome to attend! \nAges 0-5. Please register. Registering for one Thursday spring storytime will register you for all Thursday spring storytimes.
URL:https://www.harwintonlibrary.org/event/spring-storytime-thurs-2/2026-04-23/
LOCATION:Harwinton Public Library\, 80 Bentley Drive\, Harwinton\, CT\, 06791\, United States
CATEGORIES:Storytime
ATTACH;FMTTYPE=image/jpeg:https://www.harwintonlibrary.org/wp-content/uploads/2026/02/spring-storytimes-banner.jpg
END:VEVENT
BEGIN:VEVENT
DTSTART;TZID=America/New_York:20260423T110000
DTEND;TZID=America/New_York:20260423T123000
DTSTAMP:20260423T064455
CREATED:20260225T202631Z
LAST-MODIFIED:20260417T140522Z
UID:26301-1776942000-1776947400@www.harwintonlibrary.org
SUMMARY:Veterans Benefits Outreach
DESCRIPTION:Are you a veteran or family member of a veteran who is unsure about what benefits are available to you? The Harwinton Municipal Veterans Representative and members from Veterans Benefits Administration and Veterans  Healthcare Administration will be presenting an overview of programs and services\, along with eligibility requirements. There will be time for Q & A. All veterans are welcome regardless of branch of service or character of discharge. No registration needed. Please stop in – and thank you for your service!
URL:https://www.harwintonlibrary.org/event/veterans-benefits-outreach/
LOCATION:Harwinton Public Library\, 80 Bentley Drive\, Harwinton\, CT\, 06791\, United States
CATEGORIES:Recurring Event
ATTACH;FMTTYPE=image/jpeg:https://www.harwintonlibrary.org/wp-content/uploads/2026/02/Veterans_Outreach_THUMBNAIL.jpg
END:VEVENT
END:VCALENDAR